BEGIN:VCALENDAR
VERSION:2.0
PRODID:-//Lāna&#039;i Culture &amp; Heritage Center - ECPv6.15.18//NONSGML v1.0//EN
CALSCALE:GREGORIAN
METHOD:PUBLISH
X-WR-CALNAME:Lāna&#039;i Culture &amp; Heritage Center
X-ORIGINAL-URL:https://lanaichc.org
X-WR-CALDESC:Events for Lāna&#039;i Culture &amp; Heritage Center
REFRESH-INTERVAL;VALUE=DURATION:PT1H
X-Robots-Tag:noindex
X-PUBLISHED-TTL:PT1H
BEGIN:VTIMEZONE
TZID:Pacific/Honolulu
BEGIN:STANDARD
TZOFFSETFROM:-1000
TZOFFSETTO:-1000
TZNAME:HST
DTSTART:20250101T000000
END:STANDARD
END:VTIMEZONE
BEGIN:VEVENT
DTSTART;TZID=Pacific/Honolulu:20260425T100000
DTEND;TZID=Pacific/Honolulu:20260425T130000
DTSTAMP:20260420T220239
CREATED:20250508T223909Z
LAST-MODIFIED:20260415T212911Z
UID:2253-1777111200-1777122000@lanaichc.org
SUMMARY:Kupulau Festival 2026
DESCRIPTION:Join us on April 25 for Kupulau Festival\, a vibrant celebration of Lāna‘i’s rich natural and cultural landscape\, held annually on the last Saturday of April at Lāna‘i Culture & Heritage Center.  Mahalo to KS Kaiāulu and National Fish & Wildlife Foundation for their ongoing support. Attendees can learn traditional Hawaiian practices and experience hands-on cultural activities\, buy native and Polynesian-introduced plants\, engage with and support local conservation efforts while gaining insights into Lāna‘i’s unique ecosystem and cultural heritage. \nParticipating Organizations\nDepartment of Land and Natural Resources-Division of Aquatic Resources (Maui)\nDepartment of Land and Natural Resources-Division of Forestry and Wildlife (Lānaʻi)\nForest Solutions\, Inc. (Hawaiʻi Island)\nHawaiʻi Farmers Union United (Lānaʻi Chapter)\nHawaiʻi Islands Humpback Whale National Marine Sanctuary (Maui)\nHawaiʻi Nature Center (Maui)\nKamehameha Schools\nLānaʻi Cat Sanctuary\nLānaʻi Community Stewardship Program\nLānaʻi High and Elementary School\nLānaʻi Limu Restoration Project\nLEI Ecoservices (Lānaʻi)\nMarine Conservation and Innovation Group (Oʻahu)\nMaui County Department of Agriculture\nMaui County Department of ʻŌiwi Resources\nMaui Invasive Species Committee and 643-PEST (Maui)\nPono Pacific Land Management LLC (Oʻahu)\nPūlama Lānaʻi Conservation Department (Lānaʻi)\nPūlama Lānaʻi Island Operations (Lānaʻi)\nTerraformation (Hawaiʻi Island)\nThe Nature Conservancy (Oʻahu and Maui) \nPlants for Sale\nʻIliahi aloʻe (Hawaiian coastal sandalwood)\nLehua mamo (Yellow-flowered ʻōhiʻa)\nNāʻū (Hawaiian gardenia)\nMaile\nPuakenikeni\nBlue jade vine\nPalapalai\nKupukupu\nYellow-fruited Lilikoi\nMānewanewa
URL:https://lanaichc.org/event/kupulau-festival-2026/
LOCATION:Lāna‘i Culture & Heritage Center\, 730 Lāna‘i Avenue Suite 118\, Lāna‘i City\, HI\, 96763\, United States
ATTACH;FMTTYPE=image/webp:https://lanaichc.org/wp-content/uploads/2025/05/Kupulau-Festival.webp
END:VEVENT
BEGIN:VEVENT
DTSTART;TZID=Pacific/Honolulu:20260525T080000
DTEND;TZID=Pacific/Honolulu:20260525T110000
DTSTAMP:20260420T220239
CREATED:20250527T182916Z
LAST-MODIFIED:20260109T185602Z
UID:2259-1779696000-1779706800@lanaichc.org
SUMMARY:Volunteer Day: Memorial Day Cemetery Clean Up
DESCRIPTION:Join Lāna‘i Culture & Heritage Center for a meaningful Memorial Day event dedicated to remembrance and honoring the island’s ancestors. Volunteers are needed to help create 1\,200 mini bouquets on Friday\, May 22 at 9 am on the Center’s Front Lawn. These bouquets will be used on Monday\, May 25 from 8 am to 11 am\, when the community will come together to preserve Lāna‘i Cemetery in a shared act of respect and cultural care.
URL:https://lanaichc.org/event/volunteer-day-memorial-day-cemetery-clean-up/
LOCATION:Lānaʻi Cemetery
ATTACH;FMTTYPE=image/webp:https://lanaichc.org/wp-content/uploads/2024/10/Memorial-Day.webp
END:VEVENT
END:VCALENDAR